Package: a4Core Version: 1.59.0 Command: /home/biocbuild/bbs-3.23-bioc/R/bin/R CMD INSTALL a4Core StartedAt: 2025-10-31 15:21:12 -0400 (Fri, 31 Oct 2025) EndedAt: 2025-10-31 15:21:18 -0400 (Fri, 31 Oct 2025) EllapsedTime: 5.8 seconds RetCode: 0 Status: OK