Package: a4Core Version: 1.59.0 Command: /home/biocbuild/bbs-3.23-bioc/R/bin/R CMD check --install=check:a4Core.install-out.txt --library=/home/biocbuild/bbs-3.23-bioc/R/site-library --timings a4Core_1.59.0.tar.gz StartedAt: 2025-10-31 20:59:44 -0400 (Fri, 31 Oct 2025) EndedAt: 2025-10-31 21:00:31 -0400 (Fri, 31 Oct 2025) EllapsedTime: 47.1 seconds RetCode: 0 Status: OK CheckDir: a4Core.Rcheck Warnings: 0