Package: a4Core Version: 1.59.0 Command: /home/biocbuild/bbs-3.23-bioc/R/bin/R CMD build --keep-empty-dirs --no-resave-data a4Core StartedAt: 2025-10-31 16:24:29 -0400 (Fri, 31 Oct 2025) EndedAt: 2025-10-31 16:24:38 -0400 (Fri, 31 Oct 2025) EllapsedTime: 9.0 seconds RetCode: 0 Status: OK PackageFile: a4Core_1.59.0.tar.gz PackageFileSize: 290.4 KiB