Package: a4Classif Version: 1.57.0 Command: /home/biocbuild/R/R/bin/R CMD INSTALL a4Classif StartedAt: 2025-10-02 20:33:13 -0000 (Thu, 02 Oct 2025) EndedAt: 2025-10-02 20:33:25 -0000 (Thu, 02 Oct 2025) EllapsedTime: 11.5 seconds RetCode: 0 Status: OK