Package: a4Classif Version: 1.57.0 Command: /home/biocbuild/R/R/bin/R CMD build --keep-empty-dirs --no-resave-data a4Classif StartedAt: 2025-10-02 21:40:46 -0000 (Thu, 02 Oct 2025) EndedAt: 2025-10-02 21:41:21 -0000 (Thu, 02 Oct 2025) EllapsedTime: 35.0 seconds RetCode: 0 Status: OK PackageFile: a4Classif_1.57.0.tar.gz PackageFileSize: 476.7 KiB