Package: a4Classif Version: 1.57.0 Command: F:\biocbuild\bbs-3.22-bioc\R\bin\R.exe CMD INSTALL a4Classif StartedAt: 2025-08-14 15:39:58 -0400 (Thu, 14 Aug 2025) EndedAt: 2025-08-14 15:40:12 -0400 (Thu, 14 Aug 2025) EllapsedTime: 14.6 seconds RetCode: 0 Status: OK