Package: a4Classif Version: 1.57.0 Command: rm -rf a4Classif.buildbin-libdir && mkdir a4Classif.buildbin-libdir && F:\biocbuild\bbs-3.22-bioc\R\bin\R.exe CMD INSTALL --build --library=a4Classif.buildbin-libdir a4Classif_1.57.0.tar.gz StartedAt: 2025-08-15 09:41:08 -0400 (Fri, 15 Aug 2025) EndedAt: 2025-08-15 09:41:32 -0400 (Fri, 15 Aug 2025) EllapsedTime: 23.5 seconds RetCode: 0 Status: OK PackageFile: a4Classif_1.57.0.zip PackageFileSize: 408.9 KiB