Package: a4Base Version: 1.59.0 Command: /home/biocbuild/bbs-3.23-bioc/R/bin/R CMD INSTALL a4Base StartedAt: 2025-11-20 15:46:29 -0500 (Thu, 20 Nov 2025) EndedAt: 2025-11-20 15:46:49 -0500 (Thu, 20 Nov 2025) EllapsedTime: 20.6 seconds RetCode: 0 Status: OK