Package: a4 Version: 1.57.0 Command: /Library/Frameworks/R.framework/Resources/bin/R CMD INSTALL a4 StartedAt: 2025-10-17 15:41:44 -0400 (Fri, 17 Oct 2025) EndedAt: 2025-10-17 15:42:10 -0400 (Fri, 17 Oct 2025) EllapsedTime: 26.4 seconds RetCode: 0 Status: OK