Package: a4 Version: 1.57.0 Command: /Library/Frameworks/R.framework/Resources/bin/R CMD build --keep-empty-dirs --no-resave-data a4 StartedAt: 2025-10-15 15:58:48 -0400 (Wed, 15 Oct 2025) EndedAt: 2025-10-15 16:01:52 -0400 (Wed, 15 Oct 2025) EllapsedTime: 183.4 seconds RetCode: 0 Status: OK PackageFile: a4_1.57.0.tar.gz PackageFileSize: 1.188 MiB