Package: a4 Version: 1.57.0 Command: /Library/Frameworks/R.framework/Resources/bin/R CMD build --keep-empty-dirs --no-resave-data a4 StartedAt: 2025-10-02 15:35:25 -0400 (Thu, 02 Oct 2025) EndedAt: 2025-10-02 15:36:35 -0400 (Thu, 02 Oct 2025) EllapsedTime: 69.8 seconds RetCode: 0 Status: OK PackageFile: a4_1.57.0.tar.gz PackageFileSize: 1.189 MiB