Package: a4 Version: 1.59.0 Maintainer: Laure Cougnaud MaintainerEmail: laure.cougnaud at openanalytics.eu git_url: https://git.bioconductor.org/packages/a4 git_branch: devel git_last_commit: ac91744 git_last_commit_date: 2025-10-29 10:07:34 -0400 (Wed, 29 Oct 2025)