Package: ZygosityPredictor Version: 1.9.1 Command: /home/biocbuild/R/R/bin/R CMD INSTALL ZygosityPredictor StartedAt: 2025-10-23 21:04:12 -0000 (Thu, 23 Oct 2025) EndedAt: 2025-10-23 21:05:03 -0000 (Thu, 23 Oct 2025) EllapsedTime: 51.5 seconds RetCode: 0 Status: OK