Package: ZygosityPredictor Version: 1.9.1 Command: /home/biocbuild/R/R/bin/R CMD build --keep-empty-dirs --no-resave-data ZygosityPredictor StartedAt: 2025-10-21 04:09:45 -0000 (Tue, 21 Oct 2025) EndedAt: 2025-10-21 04:11:07 -0000 (Tue, 21 Oct 2025) EllapsedTime: 82.1 seconds RetCode: 0 Status: OK PackageFile: ZygosityPredictor_1.9.1.tar.gz PackageFileSize: 850.5 KiB