Package: ZygosityPredictor Version: 1.9.1 Command: /home/biocbuild/bbs-3.22-bioc/R/bin/R CMD INSTALL ZygosityPredictor StartedAt: 2025-10-12 15:40:04 -0400 (Sun, 12 Oct 2025) EndedAt: 2025-10-12 15:40:44 -0400 (Sun, 12 Oct 2025) EllapsedTime: 39.5 seconds RetCode: 0 Status: OK