Package: ZygosityPredictor Version: 1.9.1 Command: /home/biocbuild/bbs-3.22-bioc/R/bin/R CMD check --install=check:ZygosityPredictor.install-out.txt --library=/home/biocbuild/bbs-3.22-bioc/R/site-library --timings ZygosityPredictor_1.9.1.tar.gz StartedAt: 2025-10-13 05:35:25 -0400 (Mon, 13 Oct 2025) EndedAt: 2025-10-13 05:40:06 -0400 (Mon, 13 Oct 2025) EllapsedTime: 281.1 seconds RetCode: 0 Status: OK CheckDir: ZygosityPredictor.Rcheck Warnings: 0