Package: ZygosityPredictor Version: 1.9.1 Command: /home/biocbuild/bbs-3.22-bioc/R/bin/R CMD build --keep-empty-dirs --no-resave-data --md5 ZygosityPredictor StartedAt: 2025-10-12 20:45:52 -0400 (Sun, 12 Oct 2025) EndedAt: 2025-10-12 20:47:02 -0400 (Sun, 12 Oct 2025) EllapsedTime: 70.1 seconds RetCode: 0 Status: OK PackageFile: ZygosityPredictor_1.9.1.tar.gz PackageFileSize: 826.6 KiB