Package: ZygosityPredictor Version: 1.11.0 Command: /home/biocbuild/bbs-3.23-bioc/R/bin/R CMD INSTALL ZygosityPredictor StartedAt: 2025-11-27 15:40:21 -0500 (Thu, 27 Nov 2025) EndedAt: 2025-11-27 15:41:01 -0500 (Thu, 27 Nov 2025) EllapsedTime: 40.6 seconds RetCode: 0 Status: OK