Package: ZygosityPredictor Version: 1.9.1 Command: /Library/Frameworks/R.framework/Resources/bin/R CMD INSTALL ZygosityPredictor StartedAt: 2025-09-30 15:35:42 -0400 (Tue, 30 Sep 2025) EndedAt: 2025-09-30 15:36:37 -0400 (Tue, 30 Sep 2025) EllapsedTime: 55.4 seconds RetCode: 0 Status: OK