Package: ZygosityPredictor Version: 1.9.1 Command: /Library/Frameworks/R.framework/Resources/bin/R CMD build --keep-empty-dirs --no-resave-data ZygosityPredictor StartedAt: 2025-09-30 19:18:51 -0400 (Tue, 30 Sep 2025) EndedAt: 2025-09-30 19:19:58 -0400 (Tue, 30 Sep 2025) EllapsedTime: 66.7 seconds RetCode: 0 Status: OK PackageFile: ZygosityPredictor_1.9.1.tar.gz PackageFileSize: 825.6 KiB