Package: ZygosityPredictor Version: 1.9.1 Command: rm -rf ZygosityPredictor.buildbin-libdir && mkdir ZygosityPredictor.buildbin-libdir && /Users/biocbuild/BBS/utils/build-universal.sh ZygosityPredictor_1.9.1.tar.gz /Library/Frameworks/R.framework/Resources/bin/R ZygosityPredictor.buildbin-libdir StartedAt: 2025-10-01 02:14:00 -0400 (Wed, 01 Oct 2025) EndedAt: 2025-10-01 02:14:41 -0400 (Wed, 01 Oct 2025) EllapsedTime: 41.5 seconds RetCode: 0 Status: OK PackageFile: ZygosityPredictor_1.9.1.tgz PackageFileSize: 978.7 KiB