Package: ZygosityPredictor Version: 1.9.1 Command: /Library/Frameworks/R.framework/Resources/bin/R CMD INSTALL ZygosityPredictor StartedAt: 2025-10-12 15:20:45 -0400 (Sun, 12 Oct 2025) EndedAt: 2025-10-12 15:21:02 -0400 (Sun, 12 Oct 2025) EllapsedTime: 17.1 seconds RetCode: 0 Status: OK