Package: ZygosityPredictor Version: 1.9.1 Command: rm -rf ZygosityPredictor.buildbin-libdir && mkdir ZygosityPredictor.buildbin-libdir && /Users/biocbuild/BBS/utils/build-universal.sh ZygosityPredictor_1.9.1.tar.gz /Library/Frameworks/R.framework/Resources/bin/R ZygosityPredictor.buildbin-libdir StartedAt: 2025-10-12 22:58:15 -0400 (Sun, 12 Oct 2025) EndedAt: 2025-10-12 22:58:31 -0400 (Sun, 12 Oct 2025) EllapsedTime: 15.6 seconds RetCode: 0 Status: OK PackageFile: ZygosityPredictor_1.9.1.tgz PackageFileSize: 980.5 KiB