Package: ZygosityPredictor Version: 1.9.1 Maintainer: Marco Rheinnecker MaintainerEmail: marco.rheinnecker at dkfz-heidelberg.de git_url: https://git.bioconductor.org/packages/ZygosityPredictor git_branch: devel git_last_commit: 945b300 git_last_commit_date: 2025-07-28 18:59:59 -0400 (Mon, 28 Jul 2025)