Package: YAPSA Version: 1.35.1 Command: /home/biocbuild/R/R/bin/R CMD INSTALL YAPSA StartedAt: 2025-10-23 21:14:59 -0000 (Thu, 23 Oct 2025) EndedAt: 2025-10-23 21:16:19 -0000 (Thu, 23 Oct 2025) EllapsedTime: 79.4 seconds RetCode: 0 Status: OK