Package: YAPSA Version: 1.35.1 Command: /home/biocbuild/R/R/bin/R CMD build --keep-empty-dirs --no-resave-data YAPSA StartedAt: 2025-10-21 04:08:15 -0000 (Tue, 21 Oct 2025) EndedAt: 2025-10-21 04:13:20 -0000 (Tue, 21 Oct 2025) EllapsedTime: 305.5 seconds RetCode: 0 Status: OK PackageFile: YAPSA_1.35.1.tar.gz PackageFileSize: 3.1 MiB