Package: YAPSA Version: 1.35.1 Command: /home/biocbuild/bbs-3.22-bioc/R/bin/R CMD check --install=check:YAPSA.install-out.txt --library=/home/biocbuild/bbs-3.22-bioc/R/site-library --timings YAPSA_1.35.1.tar.gz StartedAt: 2025-10-25 05:28:31 -0400 (Sat, 25 Oct 2025) EndedAt: 2025-10-25 05:40:23 -0400 (Sat, 25 Oct 2025) EllapsedTime: 712.2 seconds RetCode: 0 Status: OK CheckDir: YAPSA.Rcheck Warnings: 0