Package: YAPSA Version: 1.37.0 Command: /home/biocbuild/bbs-3.23-bioc/R/bin/R CMD build --keep-empty-dirs --no-resave-data YAPSA StartedAt: 2025-11-04 20:41:31 -0500 (Tue, 04 Nov 2025) EndedAt: 2025-11-04 20:44:59 -0500 (Tue, 04 Nov 2025) EllapsedTime: 208.3 seconds RetCode: 0 Status: OK PackageFile: YAPSA_1.37.0.tar.gz PackageFileSize: 4.178 MiB