Package: YAPSA Version: 1.35.1 Command: /Library/Frameworks/R.framework/Resources/bin/R CMD INSTALL YAPSA StartedAt: 2025-10-07 15:48:37 -0400 (Tue, 07 Oct 2025) EndedAt: 2025-10-07 15:50:01 -0400 (Tue, 07 Oct 2025) EllapsedTime: 84.4 seconds RetCode: 0 Status: OK