Package: YAPSA Version: 1.35.1 Command: /Library/Frameworks/R.framework/Resources/bin/R CMD build --keep-empty-dirs --no-resave-data YAPSA StartedAt: 2025-10-07 19:38:31 -0400 (Tue, 07 Oct 2025) EndedAt: 2025-10-07 19:42:23 -0400 (Tue, 07 Oct 2025) EllapsedTime: 231.3 seconds RetCode: 0 Status: OK PackageFile: YAPSA_1.35.1.tar.gz PackageFileSize: 4.015 MiB