Package: YAPSA Version: 1.35.1 Command: rm -rf YAPSA.buildbin-libdir && mkdir YAPSA.buildbin-libdir && /Users/biocbuild/BBS/utils/build-universal.sh YAPSA_1.35.1.tar.gz /Library/Frameworks/R.framework/Resources/bin/R YAPSA.buildbin-libdir StartedAt: 2025-10-08 02:49:20 -0400 (Wed, 08 Oct 2025) EndedAt: 2025-10-08 02:50:23 -0400 (Wed, 08 Oct 2025) EllapsedTime: 63.6 seconds RetCode: 0 Status: OK PackageFile: YAPSA_1.35.1.tgz PackageFileSize: 4.417 MiB