Package: YAPSA Version: 1.35.1 Command: /Library/Frameworks/R.framework/Resources/bin/R CMD INSTALL YAPSA StartedAt: 2025-10-12 15:24:39 -0400 (Sun, 12 Oct 2025) EndedAt: 2025-10-12 15:25:04 -0400 (Sun, 12 Oct 2025) EllapsedTime: 25.5 seconds RetCode: 0 Status: OK