Package: YAPSA Version: 1.35.1 Command: /Library/Frameworks/R.framework/Resources/bin/R CMD build --keep-empty-dirs --no-resave-data YAPSA StartedAt: 2025-10-10 18:04:39 -0400 (Fri, 10 Oct 2025) EndedAt: 2025-10-10 18:05:55 -0400 (Fri, 10 Oct 2025) EllapsedTime: 76.3 seconds RetCode: 0 Status: OK PackageFile: YAPSA_1.35.1.tar.gz PackageFileSize: 4.022 MiB