Package: Xeva Version: 1.27.0 Command: /home/biocbuild/bbs-3.23-bioc/R/bin/R CMD INSTALL Xeva StartedAt: 2025-11-21 15:38:25 -0500 (Fri, 21 Nov 2025) EndedAt: 2025-11-21 15:39:02 -0500 (Fri, 21 Nov 2025) EllapsedTime: 36.9 seconds RetCode: 0 Status: OK