Package: Xeva Version: 1.27.0 Command: /home/biocbuild/bbs-3.23-bioc/R/bin/R CMD build --keep-empty-dirs --no-resave-data Xeva StartedAt: 2025-11-21 20:47:11 -0500 (Fri, 21 Nov 2025) EndedAt: 2025-11-21 20:48:13 -0500 (Fri, 21 Nov 2025) EllapsedTime: 62.1 seconds RetCode: 0 Status: OK PackageFile: Xeva_1.27.0.tar.gz PackageFileSize: 1.574 MiB