Package: Xeva Version: 1.27.0 Command: /Library/Frameworks/R.framework/Resources/bin/R CMD INSTALL Xeva StartedAt: 2025-11-20 15:39:15 -0500 (Thu, 20 Nov 2025) EndedAt: 2025-11-20 15:40:04 -0500 (Thu, 20 Nov 2025) EllapsedTime: 49.0 seconds RetCode: 0 Status: OK