Package: Xeva Version: 1.27.0 Command: /Library/Frameworks/R.framework/Resources/bin/R CMD build --keep-empty-dirs --no-resave-data Xeva StartedAt: 2025-11-20 19:10:32 -0500 (Thu, 20 Nov 2025) EndedAt: 2025-11-20 19:11:45 -0500 (Thu, 20 Nov 2025) EllapsedTime: 73.1 seconds RetCode: 0 Status: OK PackageFile: Xeva_1.27.0.tar.gz PackageFileSize: 1.573 MiB