Package: Xeva Version: 1.27.0 Command: rm -rf Xeva.buildbin-libdir && mkdir Xeva.buildbin-libdir && /Users/biocbuild/BBS/utils/build-universal.sh Xeva_1.27.0.tar.gz /Library/Frameworks/R.framework/Resources/bin/R Xeva.buildbin-libdir StartedAt: 2025-11-21 02:03:51 -0500 (Fri, 21 Nov 2025) EndedAt: 2025-11-21 02:04:37 -0500 (Fri, 21 Nov 2025) EllapsedTime: 45.7 seconds RetCode: 0 Status: OK PackageFile: Xeva_1.27.0.tgz PackageFileSize: 1.443 MiB