Package: Xeva Version: 1.25.0 Command: /Library/Frameworks/R.framework/Resources/bin/R CMD INSTALL Xeva StartedAt: 2025-10-26 15:20:16 -0400 (Sun, 26 Oct 2025) EndedAt: 2025-10-26 15:20:31 -0400 (Sun, 26 Oct 2025) EllapsedTime: 15.4 seconds RetCode: 0 Status: OK