Package: XeniumIO Version: 1.3.0 Command: /home/biocbuild/bbs-3.23-bioc/R/bin/R CMD INSTALL XeniumIO StartedAt: 2025-11-19 15:28:35 -0500 (Wed, 19 Nov 2025) EndedAt: 2025-11-19 15:29:00 -0500 (Wed, 19 Nov 2025) EllapsedTime: 24.8 seconds RetCode: 0 Status: OK