Package: XeniumIO Version: 1.3.0 Command: /home/biocbuild/bbs-3.23-bioc/R/bin/R CMD build --keep-empty-dirs --no-resave-data XeniumIO StartedAt: 2025-11-19 20:48:35 -0500 (Wed, 19 Nov 2025) EndedAt: 2025-11-19 20:49:14 -0500 (Wed, 19 Nov 2025) EllapsedTime: 39.0 seconds RetCode: 0 Status: OK PackageFile: XeniumIO_1.3.0.tar.gz PackageFileSize: 229.5 KiB