Package: XeniumIO Version: 1.1.3 Command: /Library/Frameworks/R.framework/Resources/bin/R CMD check --install=check:XeniumIO.install-out.txt --library=/Library/Frameworks/R.framework/Resources/library --no-vignettes --timings XeniumIO_1.1.3.tar.gz StartedAt: 2025-10-13 22:24:27 -0400 (Mon, 13 Oct 2025) EndedAt: 2025-10-13 22:25:42 -0400 (Mon, 13 Oct 2025) EllapsedTime: 75.9 seconds RetCode: 0 Status: OK CheckDir: XeniumIO.Rcheck Warnings: 0