Package: XVector Version: 0.49.1 Command: /home/biocbuild/R/R/bin/R CMD build --keep-empty-dirs --no-resave-data XVector StartedAt: 2025-10-21 04:08:12 -0000 (Tue, 21 Oct 2025) EndedAt: 2025-10-21 04:08:13 -0000 (Tue, 21 Oct 2025) EllapsedTime: 1.0 seconds RetCode: 0 Status: OK PackageFile: XVector_0.49.1.tar.gz PackageFileSize: 66.33 KiB