Package: XVector Version: 0.51.0 Command: /home/biocbuild/bbs-3.23-bioc/R/bin/R CMD check --install=check:XVector.install-out.txt --library=/home/biocbuild/bbs-3.23-bioc/R/site-library --timings XVector_0.51.0.tar.gz StartedAt: 2025-11-22 05:19:39 -0500 (Sat, 22 Nov 2025) EndedAt: 2025-11-22 05:20:43 -0500 (Sat, 22 Nov 2025) EllapsedTime: 64.1 seconds RetCode: 0 Status: WARNINGS CheckDir: XVector.Rcheck Warnings: 2