Package: XNAString Version: 1.17.1 Command: /home/biocbuild/R/R/bin/R CMD INSTALL XNAString StartedAt: 2025-09-29 21:27:56 -0000 (Mon, 29 Sep 2025) EndedAt: 2025-09-29 21:28:04 -0000 (Mon, 29 Sep 2025) EllapsedTime: 7.5 seconds RetCode: 1 Status: ERROR