Package: XNAString Version: 1.17.1 Command: /home/biocbuild/R/R/bin/R CMD build --keep-empty-dirs --no-resave-data XNAString StartedAt: 2025-09-30 04:19:08 -0000 (Tue, 30 Sep 2025) EndedAt: 2025-09-30 04:19:16 -0000 (Tue, 30 Sep 2025) EllapsedTime: 8.0 seconds RetCode: 1 Status: ERROR PackageFile: None PackageFileSize: NA