Package: XNAString Version: 1.17.1 Command: /Library/Frameworks/R.framework/Resources/bin/R CMD build --keep-empty-dirs --no-resave-data XNAString StartedAt: 2025-10-12 19:45:48 -0400 (Sun, 12 Oct 2025) EndedAt: 2025-10-12 19:48:33 -0400 (Sun, 12 Oct 2025) EllapsedTime: 165.1 seconds RetCode: 1 Status: ERROR PackageFile: None PackageFileSize: NA