Package: XINA Version: 1.29.0 Command: /home/biocbuild/bbs-3.23-bioc/R/bin/R CMD INSTALL XINA StartedAt: 2025-11-02 15:17:38 -0500 (Sun, 02 Nov 2025) EndedAt: 2025-11-02 15:17:47 -0500 (Sun, 02 Nov 2025) EllapsedTime: 8.7 seconds RetCode: 0 Status: OK