Package: XINA Version: 1.29.0 Command: /home/biocbuild/bbs-3.23-bioc/R/bin/R CMD build --keep-empty-dirs --no-resave-data XINA StartedAt: 2025-10-31 20:52:52 -0400 (Fri, 31 Oct 2025) EndedAt: 2025-10-31 20:53:25 -0400 (Fri, 31 Oct 2025) EllapsedTime: 33.0 seconds RetCode: 0 Status: OK PackageFile: XINA_1.29.0.tar.gz PackageFileSize: 2.696 MiB