Package: XINA Version: 1.27.0 Command: /Library/Frameworks/R.framework/Resources/bin/R CMD INSTALL XINA StartedAt: 2025-10-17 15:13:44 -0400 (Fri, 17 Oct 2025) EndedAt: 2025-10-17 15:13:57 -0400 (Fri, 17 Oct 2025) EllapsedTime: 12.9 seconds RetCode: 0 Status: OK